BEGIN:VCALENDAR
VERSION:2.0
PRODID:-//pretix//Tickets_@_Kollektivis_e.V.//
BEGIN:VTIMEZONE
TZID:Europe/Berlin
BEGIN:STANDARD
DTSTART:20001029T040000
RRULE:FREQ=YEARLY;BYDAY=-1SU;BYMONTH=10
TZNAME:CET
TZOFFSETFROM:+0200
TZOFFSETTO:+0100
END:STANDARD
BEGIN:DAYLIGHT
DTSTART:20000326T030000
RRULE:FREQ=YEARLY;BYDAY=-1SU;BYMONTH=3
TZNAME:CEST
TZOFFSETFROM:+0100
TZOFFSETTO:+0200
END:DAYLIGHT
END:VTIMEZONE
BEGIN:VEVENT
UID:pretix-bushbash-bushwaerter25-0@tix.bushbash.de
DTSTART;TZID=Europe/Berlin:20251115T220000
DTEND;TZID=Europe/Berlin:20251115T230000
DESCRIPTION:Tickets: https://tix.bushbash.de/bushwaerter25/\nVeranstalter: 
 Bushbash
DTSTAMP:20260424T113619Z
LOCATION:Bahnwärter Thiel\, Tumblingerstraße 45\, 80337 München
SUMMARY:Bushwärter Thiel - private Veranstaltung
END:VEVENT
END:VCALENDAR
